BEGIN:VCALENDAR
VERSION:2.0
PRODID:-//jEvents 2.0 for Joomla//EN
CALSCALE:GREGORIAN
METHOD:PUBLISH
BEGIN:VTIMEZONE
TZID:Europe/Warsaw
BEGIN:STANDARD
DTSTART:20191027T020000
RDATE:20200329T030000
TZOFFSETFROM:+0200
TZOFFSETTO:+0100
TZNAME:Europe/Warsaw CET
END:STANDARD
BEGIN:STANDARD
DTSTART:20201025T020000
RDATE:20210328T030000
TZOFFSETFROM:+0200
TZOFFSETTO:+0100
TZNAME:Europe/Warsaw CET
END:STANDARD
BEGIN:STANDARD
DTSTART:20211031T020000
RDATE:20220327T030000
TZOFFSETFROM:+0200
TZOFFSETTO:+0100
TZNAME:Europe/Warsaw CET
END:STANDARD
BEGIN:STANDARD
DTSTART:20221030T020000
RDATE:20230326T030000
TZOFFSETFROM:+0200
TZOFFSETTO:+0100
TZNAME:Europe/Warsaw CET
END:STANDARD
BEGIN:STANDARD
DTSTART:20231029T020000
RDATE:20240331T030000
TZOFFSETFROM:+0200
TZOFFSETTO:+0100
TZNAME:Europe/Warsaw CET
END:STANDARD
BEGIN:STANDARD
DTSTART:20241027T020000
RDATE:20250330T030000
TZOFFSETFROM:+0200
TZOFFSETTO:+0100
TZNAME:Europe/Warsaw CET
END:STANDARD
BEGIN:STANDARD
DTSTART:20251026T020000
RDATE:20260329T030000
TZOFFSETFROM:+0200
TZOFFSETTO:+0100
TZNAME:Europe/Warsaw CET
END:STANDARD
BEGIN:STANDARD
DTSTART:20261025T020000
RDATE:20270328T030000
TZOFFSETFROM:+0200
TZOFFSETTO:+0100
TZNAME:Europe/Warsaw CET
END:STANDARD
BEGIN:STANDARD
DTSTART:20271031T020000
RDATE:20280326T030000
TZOFFSETFROM:+0200
TZOFFSETTO:+0100
TZNAME:Europe/Warsaw CET
END:STANDARD
BEGIN:STANDARD
DTSTART:20281029T020000
RDATE:20290325T030000
TZOFFSETFROM:+0200
TZOFFSETTO:+0100
TZNAME:Europe/Warsaw CET
END:STANDARD
BEGIN:STANDARD
DTSTART:20291028T020000
RDATE:20300331T030000
TZOFFSETFROM:+0200
TZOFFSETTO:+0100
TZNAME:Europe/Warsaw CET
END:STANDARD
BEGIN:STANDARD
DTSTART:20301027T020000
RDATE:20310330T030000
TZOFFSETFROM:+0200
TZOFFSETTO:+0100
TZNAME:Europe/Warsaw CET
END:STANDARD
BEGIN:STANDARD
DTSTART:20311026T020000
RDATE:20320328T030000
TZOFFSETFROM:+0200
TZOFFSETTO:+0100
TZNAME:Europe/Warsaw CET
END:STANDARD
BEGIN:DAYLIGHT
DTSTART:20190912T120000
RDATE:20191027T020000
TZOFFSETFROM:+0100
TZOFFSETTO:+0200
TZNAME:Europe/Warsaw CEST
END:DAYLIGHT
BEGIN:DAYLIGHT
DTSTART:20200329T030000
RDATE:20201025T020000
TZOFFSETFROM:+0100
TZOFFSETTO:+0200
TZNAME:Europe/Warsaw CEST
END:DAYLIGHT
BEGIN:DAYLIGHT
DTSTART:20210328T030000
RDATE:20211031T020000
TZOFFSETFROM:+0100
TZOFFSETTO:+0200
TZNAME:Europe/Warsaw CEST
END:DAYLIGHT
BEGIN:DAYLIGHT
DTSTART:20220327T030000
RDATE:20221030T020000
TZOFFSETFROM:+0100
TZOFFSETTO:+0200
TZNAME:Europe/Warsaw CEST
END:DAYLIGHT
BEGIN:DAYLIGHT
DTSTART:20230326T030000
RDATE:20231029T020000
TZOFFSETFROM:+0100
TZOFFSETTO:+0200
TZNAME:Europe/Warsaw CEST
END:DAYLIGHT
BEGIN:DAYLIGHT
DTSTART:20240331T030000
RDATE:20241027T020000
TZOFFSETFROM:+0100
TZOFFSETTO:+0200
TZNAME:Europe/Warsaw CEST
END:DAYLIGHT
BEGIN:DAYLIGHT
DTSTART:20250330T030000
RDATE:20251026T020000
TZOFFSETFROM:+0100
TZOFFSETTO:+0200
TZNAME:Europe/Warsaw CEST
END:DAYLIGHT
BEGIN:DAYLIGHT
DTSTART:20260329T030000
RDATE:20261025T020000
TZOFFSETFROM:+0100
TZOFFSETTO:+0200
TZNAME:Europe/Warsaw CEST
END:DAYLIGHT
BEGIN:DAYLIGHT
DTSTART:20270328T030000
RDATE:20271031T020000
TZOFFSETFROM:+0100
TZOFFSETTO:+0200
TZNAME:Europe/Warsaw CEST
END:DAYLIGHT
BEGIN:DAYLIGHT
DTSTART:20280326T030000
RDATE:20281029T020000
TZOFFSETFROM:+0100
TZOFFSETTO:+0200
TZNAME:Europe/Warsaw CEST
END:DAYLIGHT
BEGIN:DAYLIGHT
DTSTART:20290325T030000
RDATE:20291028T020000
TZOFFSETFROM:+0100
TZOFFSETTO:+0200
TZNAME:Europe/Warsaw CEST
END:DAYLIGHT
BEGIN:DAYLIGHT
DTSTART:20300331T030000
RDATE:20301027T020000
TZOFFSETFROM:+0100
TZOFFSETTO:+0200
TZNAME:Europe/Warsaw CEST
END:DAYLIGHT
BEGIN:DAYLIGHT
DTSTART:20310330T030000
RDATE:20311026T020000
TZOFFSETFROM:+0100
TZOFFSETTO:+0200
TZNAME:Europe/Warsaw CEST
END:DAYLIGHT
END:VTIMEZONE
BEGIN:VEVENT
UID:2e241f9a9f3e73fd6428955fc4399d00
CATEGORIES:Koncerty
CREATED:20200906T201046
SUMMARY:26 Lecie Rozbratu dzień 2
LOCATION:Rozbrat ul.Pułaskiego 21a
DESCRIPTION;ENCODING=QUOTED-PRINTABLE:Nie poddajemy się!W tym roku będziemy świętować kolejne urodziny! Aby zapew
 nić wszystkim uczestnicz/kom maksimum bezpieczeństwa 26-lecie postanowiliśm
 y zorganizować w innej, bezpiecznej dla nas wszystkich formie. Przeczytajci
 e nasz komunikat uważnie, podzielcie się nim ze znajomymi i przybywajcie:&n
 bsp;-Wszystkie wydarzenia odbywać będą się na przestrzeni otwartej, na świe
 żym powietrzu. Koncerty odbędą się na specjalnie przygotowanej scenie zewnę
 trznej;&nbsp;-Wszystkie zamknięte przestrzenie będą wyłączone z użytku i wy
 sterylizowane ozonem, a półotwarte odpowiednio przygotowane do użytkowania 
 w czasie pandemii&nbsp;-Przy wejściu, tak jak na każdej większej imprezie, 
 sprawdzana będzie temperatura. Niestety nie będziemy mogli wpuścić osób z g
 orączką;&nbsp;-Zalecamy używanie maseczek higienicznych. W razie ich braku,
  będzie można je u nas dostać;&nbsp;-W wielu punktach na Rozbracie dostępne
  będą środki dezynfekujące, zamontujemy dodatkowe polowe umywalki oraz toal
 ety. Pamiętajcie o częstym myciu i dezynfekcji rąk;&nbsp;-W tym roku nie bę
 dzie możliwości noclegu na terenie Rozbratu;&nbsp;-Wśród nas będą również r
 atownicy. W razie jakichkolwiek problemów zdrowotnych, zgłaszajcie się do o
 sób funkcyjnych;&nbsp;-Wydarzenia (koncerty, Freedom Fighters #12, slam poe
 tycki) odbywać będą się punktualnie – rok temu się udało, więc i w tym musi
  się udać &nbsp;Sobota:\n12.00 Freedom Fighters #12&nbsp;16.00: Slam Poetyc
 ki w Kulawym Mule\nzapisy: Ten adres pocztowy jest chroniony przed spamowan
 iem. Aby go zobaczyć, konieczne jest włączenie w przeglądarce obsługi JavaS
 cript.
				document.getElementById('cloaka22b827449dfdb12a4535072e100b8ce')
 .innerHTML = '';
				var prefix = '&#109;a' + 'i&#108;' + '&#116;o';
				va
 r path = 'hr' + 'ef' + '=';
				var addya22b827449dfdb12a4535072e100b8ce = 
 'p&#111;zn&#97;nsk&#105;sl&#97;m' + '&#64;';
				addya22b827449dfdb12a45350
 72e100b8ce = addya22b827449dfdb12a4535072e100b8ce + 'gm&#97;&#105;l' + '&#4
 6;' + 'c&#111;m';
				var addy_texta22b827449dfdb12a4535072e100b8ce = 'p&#1
 11;zn&#97;nsk&#105;sl&#97;m' + '&#64;' + 'gm&#97;&#105;l' + '&#46;' + 'c&#1
 11;m';document.getElementById('cloaka22b827449dfdb12a4535072e100b8ce').inne
 rHTML += ''+addy_texta22b827449dfdb12a4535072e100b8ce+'';
		\nprowadzący tu
 rniej: Maciej Mikulewicz i WaniaDla osób, które zgłoszą się do turnieju wst
 ęp wolny na pozostałe wydarzenia sobotnie. Decyduje kolejność zgłoszeń.\nPr
 zewidziane nagrody. Turniej odbędzie się według klasycznych zasad.&nbsp;KON
 CERT START 18.00\n\nInfekcja\n\nSkorup/a\n\n&nbsp;donGURALesko&nbsp;&nbsp;K
 lipsy Panda\n\nAfter: DJ Gøblin + TBA /// Disco terror&nbsp;Fb urodzin&nbsp
 ;Dzień 1&nbsp;
DTSTAMP:20260424T004704Z
DTSTART;TZID=Europe/Warsaw:20200912T120000
SEQUENCE:0
TRANSP:OPAQUE
END:VEVENT
END:VCALENDAR