BEGIN:VCALENDAR
VERSION:2.0
PRODID:-//jEvents 2.0 for Joomla//EN
CALSCALE:GREGORIAN
METHOD:PUBLISH
BEGIN:VTIMEZONE
TZID:Europe/Warsaw
BEGIN:STANDARD
DTSTART:20191027T020000
RDATE:20200329T030000
TZOFFSETFROM:+0200
TZOFFSETTO:+0100
TZNAME:Europe/Warsaw CET
END:STANDARD
BEGIN:STANDARD
DTSTART:20201025T020000
RDATE:20210328T030000
TZOFFSETFROM:+0200
TZOFFSETTO:+0100
TZNAME:Europe/Warsaw CET
END:STANDARD
BEGIN:STANDARD
DTSTART:20211031T020000
RDATE:20220327T030000
TZOFFSETFROM:+0200
TZOFFSETTO:+0100
TZNAME:Europe/Warsaw CET
END:STANDARD
BEGIN:STANDARD
DTSTART:20221030T020000
RDATE:20230326T030000
TZOFFSETFROM:+0200
TZOFFSETTO:+0100
TZNAME:Europe/Warsaw CET
END:STANDARD
BEGIN:STANDARD
DTSTART:20231029T020000
RDATE:20240331T030000
TZOFFSETFROM:+0200
TZOFFSETTO:+0100
TZNAME:Europe/Warsaw CET
END:STANDARD
BEGIN:STANDARD
DTSTART:20241027T020000
RDATE:20250330T030000
TZOFFSETFROM:+0200
TZOFFSETTO:+0100
TZNAME:Europe/Warsaw CET
END:STANDARD
BEGIN:STANDARD
DTSTART:20251026T020000
RDATE:20260329T030000
TZOFFSETFROM:+0200
TZOFFSETTO:+0100
TZNAME:Europe/Warsaw CET
END:STANDARD
BEGIN:STANDARD
DTSTART:20261025T020000
RDATE:20270328T030000
TZOFFSETFROM:+0200
TZOFFSETTO:+0100
TZNAME:Europe/Warsaw CET
END:STANDARD
BEGIN:STANDARD
DTSTART:20271031T020000
RDATE:20280326T030000
TZOFFSETFROM:+0200
TZOFFSETTO:+0100
TZNAME:Europe/Warsaw CET
END:STANDARD
BEGIN:STANDARD
DTSTART:20281029T020000
RDATE:20290325T030000
TZOFFSETFROM:+0200
TZOFFSETTO:+0100
TZNAME:Europe/Warsaw CET
END:STANDARD
BEGIN:STANDARD
DTSTART:20291028T020000
RDATE:20300331T030000
TZOFFSETFROM:+0200
TZOFFSETTO:+0100
TZNAME:Europe/Warsaw CET
END:STANDARD
BEGIN:STANDARD
DTSTART:20301027T020000
RDATE:20310330T030000
TZOFFSETFROM:+0200
TZOFFSETTO:+0100
TZNAME:Europe/Warsaw CET
END:STANDARD
BEGIN:STANDARD
DTSTART:20311026T020000
RDATE:20320328T030000
TZOFFSETFROM:+0200
TZOFFSETTO:+0100
TZNAME:Europe/Warsaw CET
END:STANDARD
BEGIN:DAYLIGHT
DTSTART:20190911T113000
RDATE:20191027T020000
TZOFFSETFROM:+0100
TZOFFSETTO:+0200
TZNAME:Europe/Warsaw CEST
END:DAYLIGHT
BEGIN:DAYLIGHT
DTSTART:20200329T030000
RDATE:20201025T020000
TZOFFSETFROM:+0100
TZOFFSETTO:+0200
TZNAME:Europe/Warsaw CEST
END:DAYLIGHT
BEGIN:DAYLIGHT
DTSTART:20210328T030000
RDATE:20211031T020000
TZOFFSETFROM:+0100
TZOFFSETTO:+0200
TZNAME:Europe/Warsaw CEST
END:DAYLIGHT
BEGIN:DAYLIGHT
DTSTART:20220327T030000
RDATE:20221030T020000
TZOFFSETFROM:+0100
TZOFFSETTO:+0200
TZNAME:Europe/Warsaw CEST
END:DAYLIGHT
BEGIN:DAYLIGHT
DTSTART:20230326T030000
RDATE:20231029T020000
TZOFFSETFROM:+0100
TZOFFSETTO:+0200
TZNAME:Europe/Warsaw CEST
END:DAYLIGHT
BEGIN:DAYLIGHT
DTSTART:20240331T030000
RDATE:20241027T020000
TZOFFSETFROM:+0100
TZOFFSETTO:+0200
TZNAME:Europe/Warsaw CEST
END:DAYLIGHT
BEGIN:DAYLIGHT
DTSTART:20250330T030000
RDATE:20251026T020000
TZOFFSETFROM:+0100
TZOFFSETTO:+0200
TZNAME:Europe/Warsaw CEST
END:DAYLIGHT
BEGIN:DAYLIGHT
DTSTART:20260329T030000
RDATE:20261025T020000
TZOFFSETFROM:+0100
TZOFFSETTO:+0200
TZNAME:Europe/Warsaw CEST
END:DAYLIGHT
BEGIN:DAYLIGHT
DTSTART:20270328T030000
RDATE:20271031T020000
TZOFFSETFROM:+0100
TZOFFSETTO:+0200
TZNAME:Europe/Warsaw CEST
END:DAYLIGHT
BEGIN:DAYLIGHT
DTSTART:20280326T030000
RDATE:20281029T020000
TZOFFSETFROM:+0100
TZOFFSETTO:+0200
TZNAME:Europe/Warsaw CEST
END:DAYLIGHT
BEGIN:DAYLIGHT
DTSTART:20290325T030000
RDATE:20291028T020000
TZOFFSETFROM:+0100
TZOFFSETTO:+0200
TZNAME:Europe/Warsaw CEST
END:DAYLIGHT
BEGIN:DAYLIGHT
DTSTART:20300331T030000
RDATE:20301027T020000
TZOFFSETFROM:+0100
TZOFFSETTO:+0200
TZNAME:Europe/Warsaw CEST
END:DAYLIGHT
BEGIN:DAYLIGHT
DTSTART:20310330T030000
RDATE:20311026T020000
TZOFFSETFROM:+0100
TZOFFSETTO:+0200
TZNAME:Europe/Warsaw CEST
END:DAYLIGHT
END:VTIMEZONE
BEGIN:VEVENT
UID:f5dadb12f6491469896a6792754aa285
CATEGORIES:Protesty
CREATED:20200909T182850
SUMMARY:Pikieta solidarnościowa w związku z rozprawą apelacyjną osób oskarżonych za udział w Czarnym Proteście w 2016 roku
LOCATION:ul. Stanisława Hejmowskiego 2, Poznań
DESCRIPTION;ENCODING=QUOTED-PRINTABLE:Pikieta solidarnościowa w związku z rozprawą apelacyjną osób oskarżonych za
  udział w Czarnym Proteście w 2016 roku\n&nbsp;\n11 Września 2020 roku w Są
 dzie Okręgowym w Poznaniu (ul. Stanisława Hejmowskiego 2, w Sali nr. 0170) 
 odbędzie się rozprawa odwoławcza osób oskarżonych za udział w Czarnym Prote
 ście w 2016 roku.\n&nbsp;\nNasza sprawa ciągnie się już od czterech lat. Je
 st ona kolejnym z wielu, tak głośnych w ostatnim czasie, przykładów represj
 i politycznych dotykających aktywistki i aktywistów. Na szczęście w zmagani
 ach z organami władzy nie jesteśmy same/i. Dzięki wsparciu i solidarności m
 amy coraz większą siłę. Nie przestaniemy walczyć z faszystowskimi, klasisto
 wskimi, seksistowskimi, rasistowskimi i homofobicznymi ideami oraz reprezen
 tującymi je osobami i instytucjami. Także w piątek pokażmy naszą solidarnoś
 ć. Bądźcie z nami pod budynkiem Sądu Okręgowego o godzinie 11:30.\n&nbsp;\n
 Przypomnijmy parę faktów: 3 października 2016 roku wraz z grupą ok. 1500 pr
 zeszłyśmy/liśmy, po zakończeniu wielogodzinnej manifestacji, z palcu Adama 
 Mickiewicza pod siedzibę biura PIS, aby tam wyrazić swój sprzeciw przeciwko
  planowanemu zaostrzeniu ustawy aborcyjnej. Na miejscu spontaniczne zgromad
 zenie zamieniło się w eskalację policyjnej przemocy. W wyniku działań funkc
 jonariuszy wiele osób, bez względu na wiek i płeć, odniosło mniejsze lub wi
 ększe obrażenia, zostały pobite, potłuczone i poparzone gazem pieprzowym. W
 yciągając z tłumu przypadkowych ludzi, policja zatrzymała troje z nas – Mac
 ieja, Jacka i Gosię. Zostały postawione nam zarzuty o napaść na funkcjonari
 uszy oraz udział w nielegalnym zbiegowisku ze świadomością, że jego uczestn
 icy dopuszczają się gwałtownego zamachu na funkcjonariuszy policji. Do list
 y oskarżonych dołączyła z czasem także Joanna, która była świadkiem zatrzym
 ania Gosi i policyjnej przemocy, i jako jedna z poszkodowanych złożyła w pr
 okuraturze zawiadomienie o przekroczeniu uprawnień przez funkcjonariuszy. O
 statecznie, w tej sprawie oskarżono 6 osób – Gosię, Macieja, Jacka i Joannę
  oraz Iwonę, która także złożyła zażalenie na działania policji, a także Pa
 wła.\nSprawę przeciwko policjantom szybko umorzono, my natomiast, przez dwa
  lata, raz w miesiącu uczestniczyłyśmy/liśmy w kolejnych posiedzeniach Sądu
 . W trakcie tych posiedzeń (odbyło się ich prawie 25!) przesłuchano ok. 60 
 świadków prokuratury oraz ok. 30 świadków obrony. Podczas gdy w swoich zezn
 aniach funkcjonariusze policji w większości zeznawali, że nie pamiętają naw
 et, gdzie tamtego dnia byli i niewiele wiedzą w tej sprawie lub ich zeznani
 a były ze sobą sprzeczne i mało wiarygodne, świadkowie obrony będący na mie
 jscu zdarzeń, czyli pod siedzibą biura poselskiego PIS 3.10.2016 roku wskaz
 ywali na to, że policja bezpodstawnie zastosowała przemoc i środki całkowic
 ie niedostosowane do zastanej sytuacji.\nMimo takiego przebiegu rozprawy i 
 jednoznacznych zeznań świadków zapadł wyrok skazujący. Zostałyśmy/liśmy ska
 zane na 10 miesięcy ograniczenia wolności w postaci 20 godzin prac publiczn
 ych (Iwonę i Pawła uniewinniono), a uzasadnienie tego wyroku było tak absur
 dalne, że zasiadająca na sali sądowej publiczność z trudem powstrzymywała s
 ię od śmiechu.\nDzięki wsparciu osób z całej Polski zebrałyśmy/liśmy środki
  potrzebne na opłacenie prawników, którzy w naszym imieniu złożyli apelację
 . W najbliższy piątek usłyszymy, jak do ich argumentów ustosunkuje się Sąd 
 Okręgowy.\n&nbsp;\nBądźcie z nami!\n&nbsp;\nJesteśmy silne/i, razem silniej
 sze/si!\n&nbsp;\nFederacja Anarchistyczna – sekcja Poznań, Anarchistyczny C
 zarny Krzyż Poznań\n
DTSTAMP:20260424T004332Z
DTSTART;TZID=Europe/Warsaw:20200911T113000
SEQUENCE:0
TRANSP:OPAQUE
END:VEVENT
END:VCALENDAR