BEGIN:VCALENDAR
VERSION:2.0
PRODID:-//jEvents 2.0 for Joomla//EN
CALSCALE:GREGORIAN
METHOD:PUBLISH
BEGIN:VTIMEZONE
TZID:Europe/Warsaw
BEGIN:STANDARD
DTSTART:20211116T123000
RDATE:20220327T030000
TZOFFSETFROM:+0200
TZOFFSETTO:+0100
TZNAME:Europe/Warsaw CET
END:STANDARD
BEGIN:STANDARD
DTSTART:20221030T020000
RDATE:20230326T030000
TZOFFSETFROM:+0200
TZOFFSETTO:+0100
TZNAME:Europe/Warsaw CET
END:STANDARD
BEGIN:STANDARD
DTSTART:20231029T020000
RDATE:20240331T030000
TZOFFSETFROM:+0200
TZOFFSETTO:+0100
TZNAME:Europe/Warsaw CET
END:STANDARD
BEGIN:STANDARD
DTSTART:20241027T020000
RDATE:20250330T030000
TZOFFSETFROM:+0200
TZOFFSETTO:+0100
TZNAME:Europe/Warsaw CET
END:STANDARD
BEGIN:STANDARD
DTSTART:20251026T020000
RDATE:20260329T030000
TZOFFSETFROM:+0200
TZOFFSETTO:+0100
TZNAME:Europe/Warsaw CET
END:STANDARD
BEGIN:STANDARD
DTSTART:20261025T020000
RDATE:20270328T030000
TZOFFSETFROM:+0200
TZOFFSETTO:+0100
TZNAME:Europe/Warsaw CET
END:STANDARD
BEGIN:STANDARD
DTSTART:20271031T020000
RDATE:20280326T030000
TZOFFSETFROM:+0200
TZOFFSETTO:+0100
TZNAME:Europe/Warsaw CET
END:STANDARD
BEGIN:STANDARD
DTSTART:20281029T020000
RDATE:20290325T030000
TZOFFSETFROM:+0200
TZOFFSETTO:+0100
TZNAME:Europe/Warsaw CET
END:STANDARD
BEGIN:STANDARD
DTSTART:20291028T020000
RDATE:20300331T030000
TZOFFSETFROM:+0200
TZOFFSETTO:+0100
TZNAME:Europe/Warsaw CET
END:STANDARD
BEGIN:STANDARD
DTSTART:20301027T020000
RDATE:20310330T030000
TZOFFSETFROM:+0200
TZOFFSETTO:+0100
TZNAME:Europe/Warsaw CET
END:STANDARD
BEGIN:STANDARD
DTSTART:20311026T020000
RDATE:20320328T030000
TZOFFSETFROM:+0200
TZOFFSETTO:+0100
TZNAME:Europe/Warsaw CET
END:STANDARD
BEGIN:DAYLIGHT
DTSTART:20220327T030000
RDATE:20221030T020000
TZOFFSETFROM:+0100
TZOFFSETTO:+0200
TZNAME:Europe/Warsaw CEST
END:DAYLIGHT
BEGIN:DAYLIGHT
DTSTART:20230326T030000
RDATE:20231029T020000
TZOFFSETFROM:+0100
TZOFFSETTO:+0200
TZNAME:Europe/Warsaw CEST
END:DAYLIGHT
BEGIN:DAYLIGHT
DTSTART:20240331T030000
RDATE:20241027T020000
TZOFFSETFROM:+0100
TZOFFSETTO:+0200
TZNAME:Europe/Warsaw CEST
END:DAYLIGHT
BEGIN:DAYLIGHT
DTSTART:20250330T030000
RDATE:20251026T020000
TZOFFSETFROM:+0100
TZOFFSETTO:+0200
TZNAME:Europe/Warsaw CEST
END:DAYLIGHT
BEGIN:DAYLIGHT
DTSTART:20260329T030000
RDATE:20261025T020000
TZOFFSETFROM:+0100
TZOFFSETTO:+0200
TZNAME:Europe/Warsaw CEST
END:DAYLIGHT
BEGIN:DAYLIGHT
DTSTART:20270328T030000
RDATE:20271031T020000
TZOFFSETFROM:+0100
TZOFFSETTO:+0200
TZNAME:Europe/Warsaw CEST
END:DAYLIGHT
BEGIN:DAYLIGHT
DTSTART:20280326T030000
RDATE:20281029T020000
TZOFFSETFROM:+0100
TZOFFSETTO:+0200
TZNAME:Europe/Warsaw CEST
END:DAYLIGHT
BEGIN:DAYLIGHT
DTSTART:20290325T030000
RDATE:20291028T020000
TZOFFSETFROM:+0100
TZOFFSETTO:+0200
TZNAME:Europe/Warsaw CEST
END:DAYLIGHT
BEGIN:DAYLIGHT
DTSTART:20300331T030000
RDATE:20301027T020000
TZOFFSETFROM:+0100
TZOFFSETTO:+0200
TZNAME:Europe/Warsaw CEST
END:DAYLIGHT
BEGIN:DAYLIGHT
DTSTART:20310330T030000
RDATE:20311026T020000
TZOFFSETFROM:+0100
TZOFFSETTO:+0200
TZNAME:Europe/Warsaw CEST
END:DAYLIGHT
END:VTIMEZONE
BEGIN:VEVENT
UID:6b0fe7135ce9cb46b49b45f24a9d30cd
CATEGORIES:Protesty
CREATED:20221114T204738
SUMMARY:Przeciwko wysiedleniu uchodźczyń z Ukrainy z hotelu Ikar
LOCATION:Hotel Ikar ul.Solna 18
DESCRIPTION;ENCODING=QUOTED-PRINTABLE:UWAGA - ZMIANA CZASU I MIEJSCA AKCJI 12:30 pod Hotelem Ikar ul.Solna 18&nbs
 p;PL,UKR,RUWzywamy wszystkich, którym los uchodźczyń i uchodźców wojennych 
 z Ukrainy nie jest obojętny do zaprotestowania przeciwko próbom ich wysiedl
 enia!&nbsp; Przyjdź w czwartek (17 listopada) o godz. 12:30 pod Hotelem Ika
 r ul.Solna 18 i wyraź swój sprzeciw!&nbsp; W hotelu Ikar lokowano osoby w n
 ajtrudniejszej życiowo sytuacji – niepełnosprawne, przewlekle chore (w tym 
 onkologicznie), opiekujące się osobami zależnymi, matki z noworodkami, kobi
 ety w ciąży, emerytów i rencistów. W wyniku przesiedlenia stracą one możliw
 ość korzystania z regularnej opieki medycznej i rehabilitacji.&nbsp; Część 
 z niepełnosprawnych dzieci udało się umieścić w Szkole Specjalnej nr 101, g
 dzie mogą się integrować i być rehabilitowane. W małych miejscowościach, gd
 zie planuje się ulokować uchodźczynie, takich możliwości nie ma. Dzieci poz
 ostaną w domu pozbawione specjalistycznego wsparcia, a ich opiekunom uniemo
 żliwi się podjęcie pracy.&nbsp; Do szkół chodzi 43 dzieci (dalszych 15 do p
 rzedszkoli i żłobków) – będą zmuszone przerwać naukę w trakcie jej trwania 
 i adoptować się do nowych warunków, co jest szczególnie trudne w przypadku 
 dzieci dotkniętych wojenną traumą.&nbsp; Wiele osób dorosłych straci zatrud
 nienie.&nbsp; W trakcie protestu mieszkanki i mieszkańcy Hotelu Ikar, który
 m grozi się wysiedleniem wręczą wojewodzie petycję, w której czytamy m.in.:
 &nbsp;„Zmiana miejsca zamieszkania i wysiedlenie z Poznania będzie oznaczać
  zaprzepaszczenie całego wysiłku, jaki włożyłyśmy w dotychczasową integracj
 ę i doprowadzi do naszego społecznego i ekonomicznego wykluczenia. Znalazły
 śmy pracę, nasze dzieci chodzą do polskich szkół, niektóre z nas same podję
 ły naukę w szkole policealnej, aby nauczyć się języka polskiego i zdobyć za
 wód, wspieramy się nawzajem w obowiązkach opiekuńczych. Czułyśmy, że najgor
 sze jest za nami, już stawałyśmy na nogi, gdy nagle poinformowano nas, że t
 o wszystko musimy porzucić i zacząć od nowa w nowym miejscu. Nie mamy już s
 ił na adaptację do nowych warunków. Nasze dzieci żyją i tak w ciągłym niepo
 koju i potrzebują stabilizacji”.&nbsp; Postulat uchodźczyń poparło już wiel
 e poznańskich organizacji społecznych - ty też bądź z nami w czwartek i zap
 rotestuj przeciwko wysiedleniom!&nbsp;UKRЗакликаємо всіх, кому не байдужа д
 оля українських біженців, підтримати протест проти спроб їхнього виселення!
 Приходьте на протест у четвер (17 листопада) о 12:30 pod Hotelem Ikar ul.So
 lna 18!&nbsp;Готель «Ікар» приймав людей у ​​найскладніший життєвій ситуаці
 ї - інвалідів, хронічно хворих (у тому числі онкологічних), опікунів, що до
 глядають їх, матерів з немовлятами, вагітних та пенсіонерів. В результаті п
 ереселення всі вони втратять доступ&nbsp;до регулярної медичної допомоги та
  реабілітації.&nbsp;Частину дітей-інвалідів поміщено до спецшколи №101, де 
 мають умови до інтеграції та реабілітації. У маленьких містечках, де планує
 ться розміщувати жінок-біженців, таких можливостей немає. Діти залишаться в
 дома без підтримки спеціалістів, а їхні опікуни не зможуть влаштуватися на 
 роботу.&nbsp;До школи ходять 43 дитини (ще 15 ходять у дитячі садки та ясла
 ) – їм доведеться покинути навчання у розпал навчального року та адаптувати
 ся до нових умов, що особливо складно у разі дітей травмованих війною.&nbsp
 ;Багато дорослих втратить роботу.&nbsp;Під час акції жителі готелю «Ікар», 
 яким загрожує виселення, представлять воєводі петицію, в якій міститься нас
 тупна інформація: «Зміна місця проживання та переселення з Познані зведе на
 нівець усі наші зусилля щодо інтеграції, і призведе до нашої соціальної та 
 економічної маргіналізації. Ми знайшли роботу, наші діти ходять до польськи
 х шкіл, деякі з нас вступили до середньої спеціальної школи, щоб вивчити по
 льську мову та здобути професію, ми підтримуємо один одного у догляді за ді
 тьми. Ми відчували, що найстрашніше позаду, ми вже набували самостійності, 
 як раптом нам повідомили, що ми маємо залишити все це і почати все спочатку
  на новому місці. Ми не маємо більше сил пристосовуватися до нових умов. На
 ші діти живуть у постійній тривозі, і їм потрібна стабільність».&nbsp;Посту
 лати жінок-біженців вже підтримали багато громадських організацій у Познані
  - і ви теж, приєднуйтесь у четвер до нашого протесту проти виселення!&nbsp
 ;RUПризываем всех, кому не безразлична судьба украинских беженцев, поддержа
 ть протест против попыток их выселения!Приходите на протест в четверг (17 н
 оября) в 12:30 pod Hotelem Ikar ul.Solna 18!&nbsp;Гостиница «Икар» принимал
 а людей в самой сложной жизненной ситуации - инвалидов, хронически больных 
 (в том числе онкологических), ухаживающих за ними опекунов, матерей с младе
 нцами, беременных и пенсионеров. В результате переселения все они лишатся д
 оступа к регулярной медицинской помощи и реабилитации.&nbsp;Часть детей-инв
 алидов помещена в спецшколу №101, где имеют условия к интеграции и реабилит
 ации. В маленьких городках, где планируется размещать женщин-беженцев, таки
 х возможностей нет. Дети останутся дома без поддержки специалистов, а их оп
 екуны не смогут устроиться на работу.&nbsp;В школу ходят 43 ребенка (еще 15
  ходят в детские сады и ясли) - им придется покинуть учебу в разгар учебног
 о года и адаптироваться к новым условиям, что особенно сложно в случае дете
 й травмированных войною.&nbsp;Многие взрослые потеряют работу.&nbsp;В ходе 
 акции жители гостиницы «Икар», которым грозит выселение, представят воеводе
  петицию, в которая содержит следующую информацию: «Смена места жительства 
 и переселение из Познани сведет на нет все наши усилия по интеграции, и при
 ведет к нашему социальной и экономической маргинализации. Мы нашли работу, 
 наши дети ходят в польские школы, некоторые из нас поступили в среднюю спец
 иальною школу, чтобы выучить польский язык и получить профессию, мы поддерж
 иваем друг друга в уходе за детьми. Мы чувствовали, что самое страшное поза
 ди, мы уже приобретали самостоятельность, как вдруг нам сообщили, что мы до
 лжны оставить все это и начать все сначала на новом месте. У нас нет больше
  сил приспосабливаться к новым условиям. Наши дети живут в постоянной трево
 ге и им нужна стабильность».&nbsp;Постулаты женщин-беженцев уже поддержали 
 многие общественные организации в Познани - и вы тоже, присоединяйтесь в че
 тверг к нашему протесту против выселения!\n\nhttps://www.facebook.com/event
 s/449053300710281?ref=newsfeed\n
DTSTAMP:20260423T111958Z
DTSTART;TZID=Europe/Warsaw:20221117T123000
SEQUENCE:0
TRANSP:OPAQUE
END:VEVENT
END:VCALENDAR