BEGIN:VCALENDAR
VERSION:2.0
PRODID:-//jEvents 2.0 for Joomla//EN
CALSCALE:GREGORIAN
METHOD:PUBLISH
BEGIN:VTIMEZONE
TZID:Europe/Warsaw
BEGIN:STANDARD
DTSTART:20251026T020000
RDATE:20260329T030000
TZOFFSETFROM:+0200
TZOFFSETTO:+0100
TZNAME:Europe/Warsaw CET
END:STANDARD
BEGIN:STANDARD
DTSTART:20261025T020000
RDATE:20270328T030000
TZOFFSETFROM:+0200
TZOFFSETTO:+0100
TZNAME:Europe/Warsaw CET
END:STANDARD
BEGIN:STANDARD
DTSTART:20271031T020000
RDATE:20280326T030000
TZOFFSETFROM:+0200
TZOFFSETTO:+0100
TZNAME:Europe/Warsaw CET
END:STANDARD
BEGIN:STANDARD
DTSTART:20281029T020000
RDATE:20290325T030000
TZOFFSETFROM:+0200
TZOFFSETTO:+0100
TZNAME:Europe/Warsaw CET
END:STANDARD
BEGIN:STANDARD
DTSTART:20291028T020000
RDATE:20300331T030000
TZOFFSETFROM:+0200
TZOFFSETTO:+0100
TZNAME:Europe/Warsaw CET
END:STANDARD
BEGIN:STANDARD
DTSTART:20301027T020000
RDATE:20310330T030000
TZOFFSETFROM:+0200
TZOFFSETTO:+0100
TZNAME:Europe/Warsaw CET
END:STANDARD
BEGIN:STANDARD
DTSTART:20311026T020000
RDATE:20320328T030000
TZOFFSETFROM:+0200
TZOFFSETTO:+0100
TZNAME:Europe/Warsaw CET
END:STANDARD
BEGIN:DAYLIGHT
DTSTART:20250417T190000
RDATE:20251026T020000
TZOFFSETFROM:+0100
TZOFFSETTO:+0200
TZNAME:Europe/Warsaw CEST
END:DAYLIGHT
BEGIN:DAYLIGHT
DTSTART:20260329T030000
RDATE:20261025T020000
TZOFFSETFROM:+0100
TZOFFSETTO:+0200
TZNAME:Europe/Warsaw CEST
END:DAYLIGHT
BEGIN:DAYLIGHT
DTSTART:20270328T030000
RDATE:20271031T020000
TZOFFSETFROM:+0100
TZOFFSETTO:+0200
TZNAME:Europe/Warsaw CEST
END:DAYLIGHT
BEGIN:DAYLIGHT
DTSTART:20280326T030000
RDATE:20281029T020000
TZOFFSETFROM:+0100
TZOFFSETTO:+0200
TZNAME:Europe/Warsaw CEST
END:DAYLIGHT
BEGIN:DAYLIGHT
DTSTART:20290325T030000
RDATE:20291028T020000
TZOFFSETFROM:+0100
TZOFFSETTO:+0200
TZNAME:Europe/Warsaw CEST
END:DAYLIGHT
BEGIN:DAYLIGHT
DTSTART:20300331T030000
RDATE:20301027T020000
TZOFFSETFROM:+0100
TZOFFSETTO:+0200
TZNAME:Europe/Warsaw CEST
END:DAYLIGHT
BEGIN:DAYLIGHT
DTSTART:20310330T030000
RDATE:20311026T020000
TZOFFSETFROM:+0100
TZOFFSETTO:+0200
TZNAME:Europe/Warsaw CEST
END:DAYLIGHT
END:VTIMEZONE
BEGIN:VEVENT
UID:e1b1d302874eacad1d4ea2fa127c078e
CATEGORIES:Koncerty
CREATED:20260416T080410
SUMMARY:LAS WARIATÓW 2: ZEMSTA – SZNUR, LAS TRUMIEN, TRENY, ELEKTRYTUAŁ / Poznań, Rozbrat
LOCATION:Rozbrat ul.Pułaskiego 21a
DESCRIPTION;ENCODING=QUOTED-PRINTABLE:\n\nHappyDying Productions i Chroma Music zapraszają na\n\n\nLAS WARIATÓW 2
 : ZEMSTA\nSZNUR + LAS TRUMIEN + TRENY + ELEKTRYTUAŁ\n\n\n10.04.26 Opole, Wy
 jście Awaryjne\n11.04.26 Szczecin, Krzywy Gryf\n12.04.26 Gdańsk, Wydział Re
 montowy\n\n\n17.04.26 Sosnowiec, Komin\n18.04.26 Poznań, Rozbrat\n19.04.26 
 Warszawa, VooDoo\n\n\nWrócili. Jeszcze bardziej zdemoralizowani, zdesperowa
 ni, eklektyczni i szaleni. A teraz mają nowych kolegów. Las Wariatów jest g
 łodny zemsty!\n\n\nBilety: \n60 PLN przedsprzedaż, 80 PLN w dniu koncertu\n
 \n\nZagrają:\n\n\nSZNUR – blackmetalowi wykolejeńcy z Wałbrzycha, czy mili 
 i uczynni młodzieńcy z grupy oazowej? Prawda jak zwykle leży pośrodku. Samo
 zwańczy królowie PLBM wydadzą w 2026 nakładem Godz ov War nową płytę, a to 
 wystarczający powód, żeby wyleźli z nory i pokazali się ludziom. My już wid
 zieliśmy koncept okładki. Wy nie i nie jesteście na to gotowi. Gatunek muzy
 czny: Gotki szukające utraconej ojcowskiej miłości metal.\n\n\nFB: https://
 www.facebook.com/projektsznur \nIG: https://www.instagram.com/projektsznur/
  \nBC: https://sznur1.bandcamp.com/ \nYT: \nLudzina (full album): https://w
 ww.youtube.com/watch?v=-7y4t2tPR-s&amp;t=905s \nPłyny: https://www.youtube.
 com/watch?v=dEiTLEEgklU\n\n\nLAS TRUMIEN - katowicko-wrocławska kolaboracja
 , skupiająca się na wszelkim złu, jakiego dopuścił się człowiek. Piwniczny 
 sludge wymieszany z doomem plus polskie teksty bazujące na prawdziwych zbro
 dniach dokonanych przez najgorsze kreatury, jakie zrodziła nasza planeta. N
 a koncie mają pięć wydawnictw sygnowanych nazwą Piranha Music, a także spli
 t z O.D.R.A. „Breslau Spleen” wydany nakładem Arcadian Industry z 2025. Gat
 unek muzyczny: opowiem Ci historię w brudnej piwnicy metal.\n\n\nFB: https:
 //www.facebook.com/lastrumien \nIG: https://www.instagram.com/las.trumien/ 
 \nBC: https://lastrumien.bandcamp.com/ \nYT: \nKoncert u Pani Kasi (live) -
  https://www.youtube.com/watch?v=Gq726R-zYE8&amp;list=RDGq726R-zYE8&amp;sta
 rt_radio=1 \nKilka godzin - https://www.youtube.com/watch?v=n2saG62-k58&amp
 ;list=RDn2saG62-k58&amp;start_radio=1\n\n\nTRENY – jednoosobowy projekt dsb
 m/darkfolk; muzyka pełna bólu, desperacji i wrzasków prosto z trzewi. W 202
 5 światło dzienne ujrzała debiutancka EP-ka „Odliczanie do nicości”, a w 20
 26 ma ukazać się kolejne wydawnictwo. Gatunek muzyczny: sam na cmentarzu po
  zmroku z blancikiem metal\n\n\nFB: https://www.facebook.com/trenydsbm \nIG
 : https://www.instagram.com/trenydsbm \nBC: https://treny.bandcamp.com/ \nY
 T: \nRytuał: https://www.youtube.com/watch?v=Q-hD1V36auk&amp;list=OLAK5uy_m
 B0vzq3966MRBvcz4rR4zkPqMDrklzBio\nCisza w ziemi, usta pełne: https://www.yo
 utube.com/watch?v=4-fiwAIuPt4&amp;list=OLAK5uy_nsT1a41d9AIyt_XudWmd_irJu1Of
 zCzsY\n\n\nELEKTRYTUAŁ – szczęk łańcuchów, brzęk tłuczonego szkła i pulsują
 ca elektronika – to wszystko znajdziecie w jednoosobowym projekcie Michała 
 Mezgera (Devour Universe, Struggle with God) o nazwie Elektrytuał, który sw
 obodnie łączy intensywność industrialu z surowością black metalu. Póki co f
 izycznie ukazał się tylko ściśle limitowany (i już wyprzedany) singiel „Ogi
 eń staje się plazmą” na winylu, ale spokojnie - premierę albumu „Praplazmat
 ” przewidziano na przełom 2025 i 26. Gatunek muzyczny: wrzuciłem kamień do 
 pralki metal\n\n\nFB: https://www.facebook.com/elektrytual \nIG: https://ww
 w.instagram.com/elektrytual/ \nBC: https://elektrytual.bandcamp.com/ \nYT: 
 \nPenetrytuał: https://www.youtube.com/watch?v=D49lEzTgMEM \nOgień staje si
 ę plazmą: https://www.youtube.com/watch?v=Ak4yDDneFWQ\n
DTSTAMP:20260420T100719Z
DTSTART;TZID=Europe/Warsaw:20260418T190000
SEQUENCE:0
TRANSP:OPAQUE
END:VEVENT
END:VCALENDAR